BEGIN:VCALENDAR
VERSION:2.0
PRODID:-//wp-events-plugin.com//7.2.3.1//EN
TZID:America/New_York
X-WR-TIMEZONE:America/New_York
BEGIN:VEVENT
UID:1221@westonshootersclub.com
DTSTART;TZID=America/New_York:20250601T100000
DTEND;TZID=America/New_York:20250601T140000
DTSTAMP:20250501T135209Z
URL:https://www.westonshootersclub.com/events/kids-shoot-5
SUMMARY:Kids Shoot
DESCRIPTION:[gravityform id="59" title="true" description="true"]\nWeston S
 hooters Club presents\nthe Kids Shoot\nSunday\, June 1st\n\n\nBring the
  kids for fun shooting and lunch!\n\n\n&nbsp\;\n\n&nbsp\;\n\nRifle sh
 ooting is from 10am until 12pm with one box of 22 ammunition per kid.\nL
 unch is provided from 12pm to 1pm for kids and their parents or guardians
 .\n\nKids six years and up can try different types of 22 caliber rifles w
 hile being supervised by a club range safety officer.\n\nPlease R.S.V.P. h
 ere by May 30th for the number of people attending.\n\nNo charge for this 
 event.\nEveryone will be volunteering their time for this one.\n\nThis eve
 nt is limited to 20 kids.\n\nFor questions\, please contact Chief Range O
 fficer Ralph at rbibbo@westonshootersclub.com
ATTACH;FMTTYPE=image/jpeg:https://www.westonshootersclub.com/wp-content/up
 loads/2025/05/Screenshot-2025-05-01-at-9.27.28 AM.png
LOCATION:Weston Shooters Club\, 8 Sibley Rd.\, Weston\, MA\, 02493\, United
  States
GEO:42.368316;-71.27116999999998
X-APPLE-STRUCTURED-LOCATION;VALUE=URI;X-ADDRESS=8 Sibley Rd.\, Weston\, MA\
 , 02493\, United States;X-APPLE-RADIUS=100;X-TITLE=Weston Shooters Club:ge
 o:42.368316,-71.27116999999998
END:VEVENT
BEGIN:VTIMEZONE
TZID:America/New_York
X-LIC-LOCATION:America/New_York
BEGIN:DAYLIGHT
DTSTART:20250309T030000
TZOFFSETFROM:-0500
TZOFFSETTO:-0400
TZNAME:EDT
END:DAYLIGHT
END:VTIMEZONE
END:VCALENDAR